Workbook

Sheet Záradék
A1: GYULAI KÖZ-TERV Kft.
A9: Tarhos belterület - temető összekötő kerékpárút
C11: Kelt: 2017 év november hó
A22: Költségvetés főösszesítő
A23: Megnevezés | C23: Anyagköltség | D23: Díjköltség
A24: 1. Építmény közvetlen költségei | C24: =ROUND(SUM(Összesítő!B2:B4),0) -> 0 | D24: =ROUND(SUM(Összesítő!C2:C4),0) -> 0
A25: =Összesítő!A5 -> Egyéb járulékos munkák | C25: =ROUND(Összesítő!B5,0) -> 0 | D25: =ROUND(Összesítő!C5,0) -> 0
A26: 1.1 Közvetlen önköltség összesen | C26: =ROUND(C24+C25,0) -> 0 | D26: =ROUND(D24+D25,0) -> 0
A27: 2.1 ÁFA vetítési alap | C27: =ROUND(C26+D26,0) -> 0
A28: 2.2 Áfa | B28: 0.27 | C28: =ROUND(C27*B28,0) -> 0
A29: 3. A munka ára | C29: =ROUND(C27+C28,0) -> 0
B35: Aláírás

Sheet Összesítő
A1: Munkanem megnevezése | B1: Anyag összege | C1: Díj összege
A2: Irtás, föld- és sziklamunka | B2: ='Irtás, föld- és sziklamunka'!H24 -> 0 | C2: ='Irtás, föld- és sziklamunka'!I24 -> 0
A3: Útburkolatalap és makadámburkolat készítése | B3: ='Útburkolatalap és makadámburkol'!H5 -> 0 | C3: ='Útburkolatalap és makadámburkol'!I5 -> 0
A4: Bitumenes alap és makadámburkolat készítése | B4: ='Bitumenes alap és makadámburkol'!H9 -> 0 | C4: ='Bitumenes alap és makadámburkol'!I9 -> 0
A5: Egyéb járulékos munkák | B5: ='Egyéb járulékos munkák'!H15 -> 0 | C5: ='Egyéb járulékos munkák'!I15 -> 0
A6: Összesen: | B6: =ROUND(SUM(B2:B5),0) -> 0 | C6: =ROUND(SUM(C2:C5), 0) -> 0

Sheet Irtás, föld- és sziklamunka
A1: Ssz. | B1: Tételszám | C1: Tétel szövege | D1: Menny. | E1: Egység | F1: Anyag egységár | G1: Díj egységre | H1: Anyag összesen | I1: Díj összesen
A2: 1 | B2: 21-001-1.2.2 | C2: Egyes fák kitermelése tuskóirtással, legallyazással és darabolással, kézi szerszámokkal, III. oszt. talajban, törzsátmérő: 21-40 cm között | D2: 100 | E2: db | H2: =ROUND(D2*F2, 0) -> 0 | I2: =ROUND(D2*G2, 0) -> 0
A4: 2 | B4: 21-001-6.2 | C4: Bozót- és cserjeirtás, tövek átmérője 4,1-10,0 cm | D4: 290 | E4: 10 m2 | H4: =ROUND(D4*F4, 0) -> 0 | I4: =ROUND(D4*G4, 0) -> 0
A6: 3 | B6: 21-002-1.2 | C6: Humuszos termőréteg, termőföld leszedése, terítése gépi erővel, 18%-os terephajlásig, bármilyen talajban, szállítással, 50,1-200,0 m között | D6: 1670 | E6: m3 | H6: =ROUND(D6*F6, 0) -> 0 | I6: =ROUND(D6*G6, 0) -> 0
A8: 4 | C8: Humuszos terítése gépi erővel, 18%-os terephajlásig, bármilyen talajban, szállítással, 50,1-200,0 m között | D8: 1180 | E8: m3 | H8: =ROUND(D8*F8, 0) -> 0 | I8: =ROUND(D8*G8, 0) -> 0
C9: 10 cm vtg
A10: 5 | B10: 21-004-4.1.2-0120221 | C10: Talajjavító réteg készítése vonalas létesítményeknél, 3,00 m szélességig vagy építményen belül, osztályozatlan kavicsból Nyers homokos kavics NHK 0/125 S-TO Ártánd | D10: 360 | E10: m3 | H10: =ROUND(D10*F10, 0) -> 0 | I10: =ROUND(D10*G10, 0) -> 0
A12: 6 | B12: 21-004-5.1.1.1 | C12: Tükörkészítés tömörítéssel sík felületen gépi erővel, kiegészítő kézi munkával talajosztály: I-IV. | D12: 3600 | E12: m2 | H12: =ROUND(D12*F12, 0) -> 0 | I12: =ROUND(D12*G12, 0) -> 0
A14: 7 | B14: 21-004-6.1 | C14: Padkarendezés gépi erővel, kiegészítő kézi munkával, I-IV. oszt. talajban, vastagság 10,0 cm-ig | D14: 1050 | E14: m2 | H14: =ROUND(D14*F14, 0) -> 0 | I14: =ROUND(D14*G14, 0) -> 0
A16: 8 | B16: 21-007-2.1.1.2.9-0990001 | C16: Földkitermelés bevágásban vagy anyagnyerő helyen és töltés- vagy depóniakészítés tömörítés nélkül, gépi erővel, 18%-os terephajlásig, I-IV. oszt. talajban, szállítással, 8000-10000 m között | D16: 1004 | E16: m3 | H16: =ROUND(D16*F16, 0) -> 0 | I16: =ROUND(D16*G16, 0) -> 0
A18: 9 | B18: 21-007-2.1.1.2.9-0990001 | C18: Töltésépítés tömörítéssel, rézsüképzéssel helyszínen deponált | D18: 567 | E18: m3 | H18: =ROUND(D18*F18, 0) -> 0 | I18: =ROUND(D18*G18, 0) -> 0
A20: 10 | B20: 21-008-2.1.3 | C20: Tömörítés bármely tömörítési osztályban gépi erővel, nagy felületen, tömörségi fok: 95% | D20: 6304 | E20: m3 | H20: =ROUND(D20*F20, 0) -> 0 | I20: =ROUND(D20*G20, 0) -> 0
A22: 11 | B22: 21-008-3.1.1 | C22: Simító hengerlés a földmű (tükör és padka) felületén, gépi erővel, 3,0 m szélességig | D22: 4550 | E22: m2 | H22: =ROUND(D22*F22, 0) -> 0 | I22: =ROUND(D22*G22, 0) -> 0
C24: Munkanem összesen: | H24: =ROUND(SUM(H2:H23),0) -> 0 | I24: =ROUND(SUM(I2:I23),0) -> 0

Sheet Útburkolatalap és makadámburkol
A1: Ssz. | B1: Tételszám | C1: Tétel szövege | D1: Menny. | E1: Egység | F1: Anyag egységár | G1: Díj egységre | H1: Anyag összesen | I1: Díj összesen
A3: 2 | B3: 61-004-1.1-0110517 | C3: Szórt alap készítése, egy rétegben, 15-25 cm vastagságban, 4 cm hézagkitöltéssel, zúzottkőből vagy kohósalakkőből Nemes zúzottkő, NZ 55/100 Bazalt-Középkő, Uzsa | D3: 587 | E3: m3 | H3: =ROUND(D3*F3, 0) -> 0 | I3: =ROUND(D3*G3, 0) -> 0
C5: Munkanem összesen: | H5: =ROUND(SUM(H2:H4),0) -> 0 | I5: =ROUND(SUM(I2:I4),0) -> 0

Sheet Bitumenes alap és makadámburkol
A1: Ssz. | B1: Tételszám | C1: Tétel szövege | D1: Menny. | E1: Egység | F1: Anyag egységár | G1: Díj egységre | H1: Anyag összesen | I1: Díj összesen
A3: 2 | B3: 63-102-1.21.3.5-0750106 | C3: Fő- és mellékutak bitumenes burkolatának készítése, hengerelt aszfalt kötőréteg készítése (AC), az alapréteg szennyezettségének előzetes eltávolításával, bitumenemulziós permetezéssel, 8 méter szélességig, AC 11 kötő aszfaltkeverékből, 50-80 mm | D3: 113 | E3: m3 | H3: =ROUND(D3*F3, 0) -> 0 | I3: =ROUND(D3*G3, 0) -> 0
C4: vastagságban terítve Kötőréteg AC11 kötő 50/70, típusú bitumennel, zúzott kővel
A6: 3 | B6: 63-102-1.31.3.3-0750206 | C6: Fő- és mellékutak bitumenes burkolatának készítése, hengerelt aszfalt kopóréteg készítése (AC), az alatta lévő réteg felületének előzetes letakarításával és bitumenes permetezéssel, 8 m szélességig, AC 8 kopó aszfaltkeverékből, 35-55 mm vastagságban | D6: 100 | E6: m3 | H6: =ROUND(D6*F6, 0) -> 0 | I6: =ROUND(D6*G6, 0) -> 0
C7: terítve Kopóréteg AC8 kopó 50/70 típusú bitumennel, N igénybevételi kat. útszakaszok kopórétege, homokkal, zúzalékkal
C9: Munkanem összesen: | H9: =ROUND(SUM(H2:H8),0) -> 0 | I9: =ROUND(SUM(I2:I8),0) -> 0

Sheet Egyéb járulékos munkák
A1: Ssz. | B1: Tételszám | C1: Tétel szövege | D1: Menny. | E1: Egység | F1: Anyag egységár | G1: Díj egységre | H1: Anyag összesen | I1: Díj összesen
A2: 1 | B2: 61-001-1.2 | C2: Makadám rendszerű útpálya és mechanikai stabilizáció bontása, géppel, hidraulikus bontófejjel | D2: 90 | E2: m3 | H2: =ROUND(D2*F2, 0) -> 0 | I2: =ROUND(D2*G2, 0) -> 0
A4: 2 | B4: 98-001-2-0000009 | C4: Meszes talajstabilizáció készítése | D4: 640 | E4: m3 | H4: =ROUND(D4*F4, 0) -> 0 | I4: =ROUND(D4*G4, 0) -> 0
A6: 4 | B6: 68-002-1.1-0020444 | C6: Közúti jelző- és útbaigazító táblák fémanyagúoszlopainak elhelyezése betonalappal,földmunkával, I-IV. osztályú talajban, 89 mm átmérőjű alumínium oszlop, 1,5-5,5 m hosszú, előregyártott betonalappal Horganyzott tartóoszlop 89x2500 | D6: 19 | E6: db | H6: =ROUND(D6*F6, 0) -> 0 | I6: =ROUND(D6*G6, 0) -> 0
A8: 5 | B8: 68-002-2.3-0451144 | C8: Közúti jelző- és útbaigazító táblák felszerelése, parkoló táblák, 1-1 bilincskészlettel Alumínium jelzőtábla, fényvisszaverő. | D8: 23 | E8: db | H8: =ROUND(D8*F8, 0) -> 0 | I8: =ROUND(D8*G8, 0) -> 0
A10: 6 | B10: 68-003-1.3.1-0020302 | C10: Útburkolati jelek készítése, oldószer nélküli termoplasztikus anyaggal, gépi jel Melegplasztik Sinojet Morvan | D10: 250 | E10: m2 | H10: =ROUND(D10*F10, 0) -> 0 | I10: =ROUND(D10*G10, 0) -> 0
A12: 7 | B12: K | C12: Ideiglenes forgalomkorlátozás kiépítése | D12: 1 | E12: munka | H12: =ROUND(D12*F12, 0) -> 0 | I12: =ROUND(D12*G12, 0) -> 0
C15: Munkanem összesen: | H15: =ROUND(SUM(H2:H13),0) -> 0 | I15: =ROUND(SUM(I2:I13),0) -> 0
