Workbook

Sheet Záradék
A1: Novodomszki és Társa Bt.
A9: Név : Öregek Napközi Otthona
A11: Cím : Tarhos Petőfi S. u. 1/1. | C11: Kelt: 2016 év április hó 20. nap
C12: Szám 12/2016
A15: A munka leírása: Az épület | C15: Készítette: Novodomszki Pál építész
A16: felújítási munkái
A19: Készült: Az ÖN rendszerében, 2016. II. negyedévi anyagárakkal
A22: Költségvetés főösszesítő
A23: Megnevezés | C23: Anyagköltség | D23: Díjköltség
A24: 1. Építmény közvetlen költségei | C24: =ROUND(SUM(Összesítő!B2:B20),0) -> 0 | D24: =ROUND(SUM(Összesítő!C2:C20),0) -> 0
A25: 2.1 ÁFA vetítési alap | C25: =ROUND(C24+D24,0) -> 0
A26: 2.2 ÁFA | B26: 0.27 | C26: =ROUND(C25*B26,0) -> 0
A27: 3. A munka ára | C27: =ROUND(C25+C26,0) -> 0
B31: Aláírás

Sheet Összesítő
A1: Munkanem megnevezése | B1: Anyag összege | C1: Díj összege
A2: Zsaluzás és állványozás | B2: ='Zsaluzás és állványozás'!H4 -> 0 | C2: ='Zsaluzás és állványozás'!I4 -> 0
A3: Irtás, föld- és sziklamunka | B3: ='Irtás, föld- és sziklamunka'!H6 -> 0 | C3: ='Irtás, föld- és sziklamunka'!I6 -> 0
A4: Falazás és egyéb kőművesmunka | B4: ='Falazás és egyéb kőművesmunka'!H18 -> 0 | C4: ='Falazás és egyéb kőművesmunka'!I18 -> 0
A5: Ácsmunka | B5: =Ácsmunka!H8 -> 0 | C5: =Ácsmunka!I8 -> 0
A6: Vakolás és rabicolás | B6: ='Vakolás és rabicolás'!H24 -> 0 | C6: ='Vakolás és rabicolás'!I24 -> 0
A7: Égéstermék-elvezető rendszerek | B7: ='Égéstermék-elvezető rendszerek'!H4 -> 0 | C7: ='Égéstermék-elvezető rendszerek'!I4 -> 0
A8: Szárazépítés | B8: =Szárazépítés!H4 -> 0 | C8: =Szárazépítés!I4 -> 0
A9: Tetőfedés | B9: =Tetőfedés!H8 -> 0 | C9: =Tetőfedés!I8 -> 0
A10: Hideg- és melegburkolatok készítése, aljzat előkészítés | B10: ='Hideg- és melegburkolatok készí'!H34 -> 0 | C10: ='Hideg- és melegburkolatok készí'!I34 -> 0
A11: Bádogozás | B11: =Bádogozás!H14 -> 0 | C11: =Bádogozás!I14 -> 0
A12: Fa- és műanyag szerkezet elhelyezése | B12: ='Fa- és műanyag szerkezet elhely'!H36 -> 0 | C12: ='Fa- és műanyag szerkezet elhely'!I36 -> 0
A13: Fém nyílászáró és épületlakatos-szerkezet elhelyezése | B13: ='Fém nyílászáró és épületlakatos'!H8 -> 0 | C13: ='Fém nyílászáró és épületlakatos'!I8 -> 0
A14: Felületképzés | B14: =Felületképzés!H20 -> 0 | C14: =Felületképzés!I20 -> 0
A15: Szigetelés | B15: =Szigetelés!H24 -> 0 | C15: =Szigetelés!I24 -> 0
A16: Útpályatartozékok készítése | B16: ='Útpályatartozékok készítése'!H4 -> 0 | C16: ='Útpályatartozékok készítése'!I4 -> 0
A17: Elektromosenergia-ellátás, villanyszerelés | B17: ='Elektromosenergia-ellátás, vill'!H78 -> 0 | C17: ='Elektromosenergia-ellátás, vill'!I78 -> 0
A18: Épületgépészeti csővezeték szerelése | B18: ='Épületgépészeti csővezeték szer'!H16 -> 0 | C18: ='Épületgépészeti csővezeték szer'!I16 -> 0
A19: Épületgépészeti szerelvények és berendezések szerelése | B19: ='Épületgépészeti szerelvények és'!H100 -> 0 | C19: ='Épületgépészeti szerelvények és'!I100 -> 0
A20: Szellőztetőberendezések | B20: =Szellőztetőberendezések!H4 -> 0 | C20: =Szellőztetőberendezések!I4 -> 0
A21: Összesen: | B21: =ROUND(SUM(B2:B20),0) -> 0 | C21: =ROUND(SUM(C2:C20), 0) -> 0

Sheet Zsaluzás és állványozás
A1: Ssz. | B1: Tételszám | C1: Tétel szövege | D1: Menny. | E1: Egység | F1: Anyag egységár | G1: Díj egységre | H1: Anyag összesen | I1: Díj összesen
A2: 1 | B2: 15-012-37 | C2: Kéményfalazó állvány készítése ferde tetőn, pallóterítéssel, korláttal, lábdeszkával, 5 m2/db munkaszint felületig | D2: 3 | E2: db | F2: 0 | G2: 0 | H2: =ROUND(D2*F2, 0) -> 0 | I2: =ROUND(D2*G2, 0) -> 0
C4: Munkanem összesen: | H4: =ROUND(SUM(H2:H3),0) -> 0 | I4: =ROUND(SUM(I2:I3),0) -> 0

Sheet Irtás, föld- és sziklamunka
A1: Ssz. | B1: Tételszám | C1: Tétel szövege | D1: Menny. | E1: Egység | F1: Anyag egységár | G1: Díj egységre | H1: Anyag összesen | I1: Díj összesen
A2: 1 | B2: 21-011-11.3 | C2: Építési törmelék konténeres elszállítása, lerakása, lerakóhelyi díjjal, 5,0 m3-es konténerbe | D2: 5 | E2: db | F2: 0 | G2: 0 | H2: =ROUND(D2*F2, 0) -> 0 | I2: =ROUND(D2*G2, 0) -> 0
A4: 2 | B4: 21-011-12 | C4: Munkahelyi depóniából építési törmelék konténerbe rakása, kézi erővel, önálló munka esetén elszámolva, konténer szállítás nélkül | D4: 25 | E4: m3 | F4: 0 | G4: 0 | H4: =ROUND(D4*F4, 0) -> 0 | I4: =ROUND(D4*G4, 0) -> 0
C6: Munkanem összesen: | H6: =ROUND(SUM(H2:H5),0) -> 0 | I6: =ROUND(SUM(I2:I5),0) -> 0

Sheet Falazás és egyéb kőművesmunka
A1: Ssz. | B1: Tételszám | C1: Tétel szövege | D1: Menny. | E1: Egység | F1: Anyag egységár | G1: Díj egységre | H1: Anyag összesen | I1: Díj összesen
A2: 1 | B2: 33-000-21.1.1.2.3.1 | C2: Válaszfal bontása, égetett agyag-kerámia termékekből, erősítő pillérrel vagy erősítő pillér nélkül falazva, üreges kerámia válaszfaltéglából, 12 cm vastagságig, falazó, cementes mészhabarcsból falazva | D2: 29.06 | E2: m2 | F2: 0 | G2: 0 | H2: =ROUND(D2*F2, 0) -> 0 | I2: =ROUND(D2*G2, 0) -> 0
A4: 2 | B4: 33-063-3.2.1 | C4: Horonyvésés, téglafalban, 8 cm2 keresztmetszetig | D4: 200 | E4: m | F4: 0 | G4: 0 | H4: =ROUND(D4*F4, 0) -> 0 | I4: =ROUND(D4*G4, 0) -> 0
A6: 3 | B6: 33-063-3.2.3 | C6: Horonyvésés, téglafalban, 16,01-24,00 cm2 keresztmetszet között | D6: 15 | E6: m | F6: 0 | G6: 0 | H6: =ROUND(D6*F6, 0) -> 0 | I6: =ROUND(D6*G6, 0) -> 0
A8: 4 | B8: 33-063-3.4.1 | C8: Horonyvésés, zsalukő vasalt beton falban, 24,00 cm2 keresztmetszetig | D8: 10 | E8: m | F8: 0 | G8: 0 | H8: =ROUND(D8*F8, 0) -> 0 | I8: =ROUND(D8*G8, 0) -> 0
A10: 5 | B10: 33-063-21.4.1 | C10: Fészekvésés, dobozok részére téglafalban, 55 - 78 mm átmérő között, 30 mm mélységig | D10: 65 | E10: db | F10: 0 | G10: 0 | H10: =ROUND(D10*F10, 0) -> 0 | I10: =ROUND(D10*G10, 0) -> 0
A12: 6 | B12: 33-063-21.4.2 | C12: Fészekvésés, dobozok részére téglafalban, 100 x 100 mm-es, 50 mm mélységig | D12: 2 | E12: db | F12: 0 | G12: 0 | H12: =ROUND(D12*F12, 0) -> 0 | I12: =ROUND(D12*G12, 0) -> 0
A14: 7 | B14: 33-063-21.4.3 | C14: Fészekvésés, dobozok részére téglafalban, 150 x 150 mm-es, 50 mm mélységig | D14: 1 | E14: db | F14: 0 | G14: 0 | H14: =ROUND(D14*F14, 0) -> 0 | I14: =ROUND(D14*G14, 0) -> 0
A16: 8 | B16: 33-091-1.1.1-1110002 | C16: Teherhordó és kitöltő falazat, égetett agyag-kerámia termékekből, nyílásbefalazás, nyílásszűkítés vagy kisebb falpótlások, 250 mm és ennél vastagabb falban csorbázatvéséssel, nyílásbefalazás, nyílásszűkítés vagy kisebb falpótlások, Kisméretű tömör tégla 250x120x65 mm I.o. Hf5-mc, falazó, cementes mészhabarcs | D16: 0.15 | E16: m3 | F16: 0 | G16: 0 | H16: =ROUND(D16*F16, 0) -> 0 | I16: =ROUND(D16*G16, 0) -> 0
C18: Munkanem összesen: | H18: =ROUND(SUM(H2:H17),0) -> 0 | I18: =ROUND(SUM(I2:I17),0) -> 0

Sheet Ácsmunka
A1: Ssz. | B1: Tételszám | C1: Tétel szövege | D1: Menny. | E1: Egység | F1: Anyag egységár | G1: Díj egységre | H1: Anyag összesen | I1: Díj összesen
A2: 1 | B2: 35-000-4 | C2: Tetődeszkázat bontása | D2: 30.58 | E2: m2 | F2: 0 | G2: 0 | H2: =ROUND(D2*F2, 0) -> 0 | I2: =ROUND(D2*G2, 0) -> 0
A4: 2 | B4: 35-004-1.3 | C4: Deszkázás ereszdeszkázás gyalult, hornyolt deszkával, hajópadlóval | D4: 19.77 | E4: m2 | F4: 0 | G4: 0 | H4: =ROUND(D4*F4, 0) -> 0 | I4: =ROUND(D4*G4, 0) -> 0
A6: 3 | B6: 35-080-4.3-0410022 | C6: Szelemen, szarufa, lécezés cseréje; tetőlécezés Fenyő tetőléc 3-6,5 m 24x50 mm | D6: 150 | E6: m | F6: 0 | G6: 0 | H6: =ROUND(D6*F6, 0) -> 0 | I6: =ROUND(D6*G6, 0) -> 0
C8: Munkanem összesen: | H8: =ROUND(SUM(H2:H7),0) -> 0 | I8: =ROUND(SUM(I2:I7),0) -> 0

Sheet Vakolás és rabicolás
A1: Ssz. | B1: Tételszám | C1: Tétel szövege | D1: Menny. | E1: Egység | F1: Anyag egységár | G1: Díj egységre | H1: Anyag összesen | I1: Díj összesen
A2: 1 | B2: 36-002-4-0212023 | C2: Vékonyvakolat alapozók felhordása, kézi erővel LB-Knauf UNIGRUND gyárilag előkevert, diszperziós bázisú, nedvszívó kiegyenlítő alapozó, Cikkszám: K00854015 | D2: 177.64 | E2: m2 | F2: 0 | G2: 0 | H2: =ROUND(D2*F2, 0) -> 0 | I2: =ROUND(D2*G2, 0) -> 0
A4: 2 | B4: 36-002-11.1-0411030 | C4: Tapadóhíd képzése gyári zsákos gúzanyaggal, kézi erővel weber 705 KPS cementes gúz, Kód: P705 | D4: 20.84 | E4: m2 | F4: 0 | G4: 0 | H4: =ROUND(D4*F4, 0) -> 0 | I4: =ROUND(D4*G4, 0) -> 0
A6: 3 | B6: 36-005-21.1.1.2-0411044 | C6: Vékonyvakolatok, színvakolatok felhordása alapozott, előkészített felületre, gyári szárazhabarcsból, ásványi vékonyvakolat készítése egy rétegben, kapart, dörzsölt vagy gördülőszemcsés struktúrával, 1,5-2,5 mm szemcsemérettel weber.ter 302F vékonyrétegű nemesvakolat, finom, Kód: 302F 3.színcsoport | D6: 177.64 | E6: m2 | F6: 0 | G6: 0 | H6: =ROUND(D6*F6, 0) -> 0 | I6: =ROUND(D6*G6, 0) -> 0
A8: 4 | B8: 36-007-9.2-0411701 | C8: Lábazati vakolatok; díszítő és lábazati műgyantás kötőanyagú vakolatréteg felhordása, kézi erővel, vödrös kiszerelésű anyagból weber.pas marmolit színes diszítő és lábazati vakolat (középszemcsés, 3 mm), Kód: 1040 | D8: 20.84 | E8: m2 | F8: 0 | G8: 0 | H8: =ROUND(D8*F8, 0) -> 0 | I8: =ROUND(D8*G8, 0) -> 0
A10: 5 | B10: 36-011-6-0149072 | C10: Üvegszövet háló elhelyezése, függőleges, vízszintes, ferde vagy íves felületen MASTERPLAST Masternet Premium alkáliálló üvegszövet háló homlokzatszigeteléshez 160 g/m2, 4x4 mm, Cikkszám: 0101-160WH000 | D10: 198.48 | E10: m2 | F10: 0 | G10: 0 | H10: =ROUND(D10*F10, 0) -> 0 | I10: =ROUND(D10*G10, 0) -> 0
A12: 6 | B12: 36-011-7-0149081 | C12: Üvegszövet háló beágyazása, függőleges, vízszintes, ferde vagy íves felületen MASTERPLAST Thermomasterfix ragasztó polisztirol lemezekhez, Cikkszám: 0103-01111125 | D12: 198.48 | E12: m2 | F12: 0 | G12: 0 | H12: =ROUND(D12*F12, 0) -> 0 | I12: =ROUND(D12*G12, 0) -> 0
A14: 7 | B14: 36-051-6.2.1-0191803 | C14: Kültéri vakolóprofilok elhelyezése, utólagos (táblás) hőszigetelő rendszerhez (EPS), polisztirol,PVC,alumínium,rozsdam.acél,horg.acél, üvegszövet, 30 - 160 mm hőszigeteléshez, pozitív sarkokra PROTEKTOR kültéri profil pozitív sarkokra utólagos hőszigeteléshez, vékony vakolathoz, alumínium, Cikkszám: 9075 | D14: 91.28 | E14: m | F14: 0 | G14: 0 | H14: =ROUND(D14*F14, 0) -> 0 | I14: =ROUND(D14*G14, 0) -> 0
A16: 8 | B16: 36-051-6.2.3-0191841 | C16: Kültéri vakolóprofilok elhelyezése, utólagos (táblás) hőszigetelő rendszerhez (EPS), rozsdamentes acélból, alumíniumból, 30 - 160 mm hőszigeteléshez, lábazati indító profilok egyenes falakhoz PROTEKTOR kültéri lábazati indító profil egyenes falhoz 180 mm utólagos hőszigeteléshez, rozsdamentes acél, Cikkszám: 2114 | D16: 57.51 | E16: m | F16: 0 | G16: 0 | H16: =ROUND(D16*F16, 0) -> 0 | I16: =ROUND(D16*G16, 0) -> 0
A18: 9 | B18: 36-090-1.2.2-0550080 | C18: Vakolatjavítás homlokzaton, a meglazult, sérült vakolat előzetes leverésével, durva, sima kivitelben, hiánypótlás 5-25% között Hvh5-mc, kültéri, vakoló cementes mészhabarcs mészpéppel | D18: 150 | E18: m2 | F18: 0 | G18: 0 | H18: =ROUND(D18*F18, 0) -> 0 | I18: =ROUND(D18*G18, 0) -> 0
A20: 10 | B20: 36-090-2.1.3 | C20: Vakolatok pótlása, keskenyvakolatok pótlása oldalfalon, 21-40 cm szélesség között | D20: 92.39 | E20: m | F20: 0 | G20: 0 | H20: =ROUND(D20*F20, 0) -> 0 | I20: =ROUND(D20*G20, 0) -> 0
A22: 11 | B22: 36-090-2.2.3 | C22: Vakolatok pótlása, keskenyvakolatok pótlása mennyezeten, 21-40 cm szélesség között | D22: 13.66 | E22: m | F22: 0 | G22: 0 | H22: =ROUND(D22*F22, 0) -> 0 | I22: =ROUND(D22*G22, 0) -> 0
C24: Munkanem összesen: | H24: =ROUND(SUM(H2:H23),0) -> 0 | I24: =ROUND(SUM(I2:I23),0) -> 0

Sheet Égéstermék-elvezető rendszerek
A1: Ssz. | B1: Tételszám | C1: Tétel szövege | D1: Menny. | E1: Egység | F1: Anyag egységár | G1: Díj egységre | H1: Anyag összesen | I1: Díj összesen
A2: 1 | B2: 37-091-3.1-0110001 | C2: Kéményfejjavítás, 10 téglasorig lebontás és újrafalazás, 1-2 lyukú kéménynél Kisméretű tömör tégla, 250x120x65 mm, nagyszilárdságú | D2: 3 | E2: db | F2: 0 | G2: 0 | H2: =ROUND(D2*F2, 0) -> 0 | I2: =ROUND(D2*G2, 0) -> 0
C4: Munkanem összesen: | H4: =ROUND(SUM(H2:H3),0) -> 0 | I4: =ROUND(SUM(I2:I3),0) -> 0

Sheet Szárazépítés
A1: Ssz. | B1: Tételszám | C1: Tétel szövege | D1: Menny. | E1: Egység | F1: Anyag egységár | G1: Díj egységre | H1: Anyag összesen | I1: Díj összesen
A2: 1 | B2: 39-001-21.2.2-0120021 | C2: CW fém vázszerkezetre szerelt válaszfal 2 x 1 rtg. impregnált, 12,5 mm vtg. gipszkarton borítással, hőszigeteléssel, csavarfejek és illesztések glettelve (Q2), egyszeres, sűrített, (40 vagy 41,7 cm bordatávolság) CW 75-06 mm vtg. tartóvázzal RIGIPS impregnált építőlemez RBI 12,5 mm, ásványi szálas hőszigetelés | D2: 22.52 | E2: m2 | F2: 0 | G2: 0 | H2: =ROUND(D2*F2, 0) -> 0 | I2: =ROUND(D2*G2, 0) -> 0
C4: Munkanem összesen: | H4: =ROUND(SUM(H2:H3),0) -> 0 | I4: =ROUND(SUM(I2:I3),0) -> 0

Sheet Tetőfedés
A1: Ssz. | B1: Tételszám | C1: Tétel szövege | D1: Menny. | E1: Egység | F1: Anyag egységár | G1: Díj egységre | H1: Anyag összesen | I1: Díj összesen
A2: 1 | B2: 41-000-4 | C2: Cserépfedés bontása (bármely rendszerű) | D2: 132.11 | E2: m2 | F2: 0 | G2: 0 | H2: =ROUND(D2*F2, 0) -> 0 | I2: =ROUND(D2*G2, 0) -> 0
A4: 2 | B4: 41-003-101.1.1.3-0114901 | C4: Egyszeres fedés sajtolt égetett agyag tetőcserepekkel, gyártótól és típustól független, rögzítés nélkül, 36-40° tetőhajlásszög között TONDACH TANGÓ kerámia alapcserép, 25,5x40 cm, terrakotta | D4: 132.11 | E4: m2 | F4: 0 | G4: 0 | H4: =ROUND(D4*F4, 0) -> 0 | I4: =ROUND(D4*G4, 0) -> 0
A6: 3 | B6: 41-003-119.4-0115323 | C6: Sajtolt égetett agyag tetőcserepeknél taréjgerinc készítése gerinccseréppel, gerinccserép-rögzítővel, fésűs gerincelemmel, gerincszellőző-szalaggal (zárócserép alkalmazása szükséges) vagy kúpalátéttel TONDACH Hornyolt gerinccserép gerincrögzítővel, kerámia, 38x17 cm, terrakotta | D6: 51.67 | E6: m | F6: 0 | G6: 0 | H6: =ROUND(D6*F6, 0) -> 0 | I6: =ROUND(D6*G6, 0) -> 0
C8: Munkanem összesen: | H8: =ROUND(SUM(H2:H7),0) -> 0 | I8: =ROUND(SUM(I2:I7),0) -> 0

Sheet Hideg- és melegburkolatok készí
A1: Ssz. | B1: Tételszám | C1: Tétel szövege | D1: Menny. | E1: Egység | F1: Anyag egységár | G1: Díj egységre | H1: Anyag összesen | I1: Díj összesen
A2: 1 | B2: 42-000-2.1 | C2: Lapburkolatok bontása, padlóburkolat bármely méretű kőagyag, mozaik vagy tört mozaik (NOVA) lapból | D2: 67.95 | E2: m2 | F2: 0 | G2: 0 | H2: =ROUND(D2*F2, 0) -> 0 | I2: =ROUND(D2*G2, 0) -> 0
A4: 2 | B4: 42-000-2.2 | C4: Lapburkolatok bontása, fal-, pillér- és oszlopburkolat, bármely méretű mozaik, kőagyag és csempe | D4: 76.32 | E4: m2 | F4: 0 | G4: 0 | H4: =ROUND(D4*F4, 0) -> 0 | I4: =ROUND(D4*G4, 0) -> 0
A6: 3 | B6: 42-000-2.3 | C6: Lapburkolatok bontása, lábazatburkolat 0,50 m magasságig, egyenes egysoros vagy lépcsős kivitelben, 10x10 - 20x20 cm-es lapméretig | D6: 36.56 | E6: m | F6: 0 | G6: 0 | H6: =ROUND(D6*F6, 0) -> 0 | I6: =ROUND(D6*G6, 0) -> 0
A8: 4 | B8: 42-000-3.4 | C8: Fa-, hézagmentes műanyag- és szőnyegburkolatok bontása, gumilemez vagy PVC burkolat tekercsből, lapokból vagy lépcsőn betétként | D8: 82.17 | E8: m2 | F8: 0 | G8: 0 | H8: =ROUND(D8*F8, 0) -> 0 | I8: =ROUND(D8*G8, 0) -> 0
A10: 5 | B10: 42-000-3.6 | C10: Fa-, hézagmentes műanyag- és szőnyegburkolatok bontása, keményfa lábazati deszka vagy falvédő deszka, 25 cm szélességig | D10: 65.97 | E10: m | F10: 0 | G10: 0 | H10: =ROUND(D10*F10, 0) -> 0 | I10: =ROUND(D10*G10, 0) -> 0
A12: 6 | B12: 42-011-1.1.1.1-0211253 | C12: Fal-, pillér és oszlopburkolat hordozószerkezetének felületelőkészítése beltérben, tégla, beton és vakolt alapfelületen, felületelőkészítő alapozó és tapadóhíd felhordása egy rétegben KEMIKÁL SORIPON önterülő aljzatkiegyenlítő alapozó, tapadóhíd | D12: 131.37 | E12: m2 | F12: 0 | G12: 0 | H12: =ROUND(D12*F12, 0) -> 0 | I12: =ROUND(D12*G12, 0) -> 0
A14: 7 | B14: 42-011-2.1.1.3.1-0216005 | C14: Padlóburkolat hordozószerkezetének felületelőkészítése beltérben, beton alapfelületen simító felületkiegyenlítés készítése 5 mm átlagos rétegvastagságban MUREXIN AM 20 kiegyenlítőhabarcs | D14: 149.53 | E14: m2 | F14: 0 | G14: 0 | H14: =ROUND(D14*F14, 0) -> 0 | I14: =ROUND(D14*G14, 0) -> 0
A16: 8 | B16: 42-012-1.1.1.1.1.2-0313021 | C16: Fal-, pillér-, oszlopburkolat készítése beltérben, tégla, beton, vakolt alapfelületen, mázas kerámiával, kötésben vagy hálósan, 3-5 mm vtg. ragasztóba rakva, 1-10 mm fugaszélességgel, 10x10 - 20x20 cm közötti lapmérettel MAPEI Keraflex Light S1 C2TE S1 cementkötésű ragasztóhabarcs, szürke, Keracolor FF Flex fugázó, fehér | D16: 31.84 | E16: m2 | F16: 0 | G16: 0 | H16: =ROUND(D16*F16, 0) -> 0 | I16: =ROUND(D16*G16, 0) -> 0
A18: 9 | B18: 42-012-1.1.3.1.1.2-0313021 | C18: Fal-, pillér-, oszlopburkolat készítése beltérben, kenhető szigetelésre, mázas kerámiával, kötésben vagy hálósan, 3-5 mm vtg. ragasztóba rakva, 1-10 mm fugaszélességgel, 10x10 - 20x20 cm közötti lapmérettel MAPEI Keraflex Light S1 C2TE S1 cementkötésű ragasztóhabarcs, szürke, Ultracolor Plus fugázó, fehér | D18: 99.53 | E18: m2 | F18: 0 | G18: 0 | H18: =ROUND(D18*F18, 0) -> 0 | I18: =ROUND(D18*G18, 0) -> 0
A20: 10 | B20: 42-022-1.1.1.2.1.1-0313020 | C20: Padlóburkolat készítése, beltérben, tégla, beton, vakolt alapfelületen, gres, kőporcelán lappal, kötésben vagy hálósan, 3-5 mm vtg. ragasztóba rakva, 1-10 mm fugaszélességgel, 20x20 - 40x40 cm közötti lapmérettel MAPEI Keraflex Easy C2E cementkötésű ragasztóhabarcs, szürke, Kerapoxy IEG epoxigyanta fugázó, cementszürke | D20: 40.14 | E20: m2 | F20: 0 | G20: 0 | H20: =ROUND(D20*F20, 0) -> 0 | I20: =ROUND(D20*G20, 0) -> 0
A22: 11 | B22: 42-022-1.1.3.2.1.1-0313020 | C22: Padlóburkolat készítése, beltérben, kenhető szigetelésre, gres, kőporcelán lappal, kötésben vagy hálósan, 3-5 mm vtg. ragasztóba rakva, 1-10 mm fugaszélességgel, 20x20 - 40x40 cm közötti lapmérettel MAPEI Keraflex Easy C2E cementkötésű ragasztóhabarcs, szürke, Kerapoxy IEG epoxigyanta fugázó, cementszürke | D22: 27.99 | E22: m2 | F22: 0 | G22: 0 | H22: =ROUND(D22*F22, 0) -> 0 | I22: =ROUND(D22*G22, 0) -> 0
A24: 12 | B24: 42-022-2.1.2.1.1-0313020 | C24: Lábazatburkolat készítése, beltérben, gres, kőporcelán lappal, egyenes, egysoros kivitelben, 3-5 mm ragasztóba rakva, 1-10 mm fugaszélességgel, 10 cm magasságig, 20x20 - 40×40 cm közötti lapmérettel MAPEI Keraflex Easy C2E cementkötésű ragasztóhabarcs, szürke, Kerapoxy IEG epoxigyanta fugázó, cementszürke | D24: 33.15 | E24: m | F24: 0 | G24: 0 | H24: =ROUND(D24*F24, 0) -> 0 | I24: =ROUND(D24*G24, 0) -> 0
... A32: 16 | B32: 42-042-31.6.1 | C32: Lábazat kialakítása, PVC-burkolatból (kvarc-vinil- és designe lapok), falábazat (székléc) készítése | D32: 64.33 | E32: m | F32: 0 | G32: 0 | H32: =ROUND(D32*F32, 0) -> 0 | I32: =ROUND(D32*G32, 0) -> 0
C34: Munkanem összesen: | H34: =ROUND(SUM(H2:H33),0) -> 0 | I34: =ROUND(SUM(I2:I33),0) -> 0

Sheet Bádogozás
A1: Ssz. | B1: Tételszám | C1: Tétel szövege | D1: Menny. | E1: Egység | F1: Anyag egységár | G1: Díj egységre | H1: Anyag összesen | I1: Díj összesen
A2: 1 | B2: 43-000-1 | C2: Függőereszcsatorna bontása, 50 cm kiterített szélességig | D2: 62.16 | E2: m | F2: 0 | G2: 0 | H2: =ROUND(D2*F2, 0) -> 0 | I2: =ROUND(D2*G2, 0) -> 0
A4: 2 | B4: 43-000-5 | C4: Lefolyó csatorna bontása 50 cm kiterített szélességig | D4: 14 | E4: m | F4: 0 | G4: 0 | H4: =ROUND(D4*F4, 0) -> 0 | I4: =ROUND(D4*G4, 0) -> 0
A6: 3 | B6: 43-000-7 | C6: Szegélyek, párkány könyöklő bontása, 100 cm kiterített szélességig | D6: 16.36 | E6: m | F6: 0 | G6: 0 | H6: =ROUND(D6*F6, 0) -> 0 | I6: =ROUND(D6*G6, 0) -> 0
A8: 4 | B8: 43-002-1.7-0140002 | C8: Függőereszcsatorna szerelése, félkörszelvényű, bármilyen kiterített szélességben, horganyzott acéllemezből Függőereszcsatorna Ha 0,55, félkör szelvényű, Ksz: 33 cm | D8: 62.16 | E8: m | F8: 0 | G8: 0 | H8: =ROUND(D8*F8, 0) -> 0 | I8: =ROUND(D8*G8, 0) -> 0
A10: 5 | B10: 43-002-11.6-0140602 | C10: Lefolyócső szerelése kör keresztmetszettel, bármilyen kiterített szélességgel, horganyzott acéllemezből Horganyzott lefolyócső Ha 0,55, körszelvényű, Ksz: 33 cm | D10: 14 | E10: m | F10: 0 | G10: 0 | H10: =ROUND(D10*F10, 0) -> 0 | I10: =ROUND(D10*G10, 0) -> 0
A12: 6 | B12: 43-003-8.1.1-0995008 | C12: Ablak- vagy szemöldökpárkány minősített ötvözött horganylemezből, 50 cm kiterített szélességig Ablakpárkány VM-ZINC-NATÚR ZINC minőségű ötvözött horganylemezből, 0,65 mm vtg., standard felületű, Ksz: 40 cm | D12: 16.36 | E12: m | F12: 0 | G12: 0 | H12: =ROUND(D12*F12, 0) -> 0 | I12: =ROUND(D12*G12, 0) -> 0
C14: Munkanem összesen: | H14: =ROUND(SUM(H2:H13),0) -> 0 | I14: =ROUND(SUM(I2:I13),0) -> 0

Sheet Fa- és műanyag szerkezet elhely
A1: Ssz. | B1: Tételszám | C1: Tétel szövege | D1: Menny. | E1: Egység | F1: Anyag egységár | G1: Díj egységre | H1: Anyag összesen | I1: Díj összesen
A2: 1 | B2: 44-000-1.1 | C2: Fa nyílászáró szerkezetek bontása, ajtó, ablak vagy kapu, 2,00 m2-ig | D2: 1.51 | E2: m2 | F2: 0 | G2: 0 | H2: =ROUND(D2*F2, 0) -> 0 | I2: =ROUND(D2*G2, 0) -> 0
A4: 2 | B4: 44-000-1.2 | C4: Fa nyílászáró szerkezetek bontása, ajtó, ablak vagy kapu, 2,01-4,00 m2 között | D4: 41.24 | E4: m2 | F4: 0 | G4: 0 | H4: =ROUND(D4*F4, 0) -> 0 | I4: =ROUND(D4*G4, 0) -> 0
A6: 3 | B6: 44-000-2 | C6: Favázas üvegfal bontása | D6: 5.09 | E6: m2 | F6: 0 | G6: 0 | H6: =ROUND(D6*F6, 0) -> 0 | I6: =ROUND(D6*G6, 0) -> 0
A8: 4 | B8: 44-001-1.1.1.1-0131032 | C8: Fa beltéri nyílászárók elhelyezése, előre kihagyott falnyílásba, utólagos elhelyezéssel, tömítés nélkül, (szerelvényezve, finom beállítással), MDF vagy keményhéjszerkezetes ajtó, 6,00 m kerületig Beltéri kazettás ajtó, tele lemezelt, egyszárnyú, MDF tokkal, 75x210 cm | D8: 3 | E8: db | F8: 0 | G8: 0 | H8: =ROUND(D8*F8, 0) -> 0 | I8: =ROUND(D8*G8, 0) -> 0
A10: 5 | B10: 44-001-1.1.1.2-0131036 | C10: Fa beltéri nyílászárók elhelyezése, előre kihagyott falnyílásba, utólagos elhelyezéssel, tömítés nélkül, (szerelvényezve, finom beállítással), MDF vagy keményhéjszerkezetes ajtó, 6,01-10,00 m kerület között Beltéri kazettás ajtó, tele lemezelt, egyszárnyú, MDF tokkal, 105x210 cm | D10: 1 | E10: db | F10: 0 | G10: 0 | H10: =ROUND(D10*F10, 0) -> 0 | I10: =ROUND(D10*G10, 0) -> 0
A12: 6 | B12: 44-001-1.1.1.2-0131046 | C12: Fa beltéri nyílászárók elhelyezése, előre kihagyott falnyílásba, utólagos elhelyezéssel, tömítés nélkül, (szerelvényezve, finom beállítással), MDF vagy keményhéjszerkezetes ajtó, 6,01-10,00 m kerület között Beltéri üvegezett kazettás tolóajtó, egyszárnyú, MDF tokkal, 100x210 cm | D12: 1 | E12: db | F12: 0 | G12: 0 | H12: =ROUND(D12*F12, 0) -> 0 | I12: =ROUND(D12*G12, 0) -> 0
A14: 7 | B14: 44-001-1.1.1.2-0131062 | C14: Fa beltéri nyílászárók elhelyezése, előre kihagyott falnyílásba, utólagos elhelyezéssel, tömítés nélkül, (szerelvényezve, finom beállítással), MDF vagy keményhéjszerkezetes ajtó, 6,01-10,00 m kerület között Beltéri kazettás ajtó, tele lemezelt, asszimetrikus kétszárnyú, MDF tokkal, 140x210 cm | D14: 1 | E14: db | F14: 0 | G14: 0 | H14: =ROUND(D14*F14, 0) -> 0 | I14: =ROUND(D14*G14, 0) -> 0
A16: 8 | B16: 44-001-1.1.3.2 | C16: Fa beltéri nyílászárók elhelyezése, előre kihagyott falnyílásba, utólagos elhelyezéssel, tömítés nélkül, (szerelvényezve, finom beállítással), hossztoldás nélküli fenyőfa ajtó, 6,01-10,00 m kerület között, üvegfal, egyszárnyú nyíló ajtóval 212x240 cm mérettel | D16: 1 | E16: db | F16: 0 | G16: 0 | H16: =ROUND(D16*F16, 0) -> 0 | I16: =ROUND(D16*G16, 0) -> 0
A18: 9 | B18: 44-011-1.1.1-0168551 | C18: Műanyag kültéri nyílászárók elhelyezése előre kihagyott falnyílásba, hőszigetelt, fokozott légzárású bejárati ajtó, tömítés nélkül (szerelvényezve, finom beállítással), 5,01-10,00 m kerület között FENSTHERM FUTURE befelé nyíló bejárati ajtó angol panellel, asszimetrikus nyílószárnyakkal, 6 kamrás PROFINE 76 PVC profil, Uw<1,1 W/m2K, mérete: 137 x 210+30 cm | D18: 1 | E18: db | F18: 0 | G18: 0 | H18: =ROUND(D18*F18, 0) -> 0 | I18: =ROUND(D18*G18, 0) -> 0
A20: 10 | B20: 44-011-1.1.1-0212953 | C20: Műanyag kültéri nyílászárók elhelyezése előre kihagyott falnyílásba, hőszigetelt, fokozott légzárású bejárati ajtó, tömítés nélkül (szerelvényezve, finom beállítással), 5,01-10,00 m kerület között REHAU Brillant-Design bejárati ajtó, fehér, sima fehér tömör betéttel, 94 x 240 cm | D20: 1 | E20: db | F20: 0 | G20: 0 | H20: =ROUND(D20*F20, 0) -> 0 | I20: =ROUND(D20*G20, 0) -> 0
A22: 11 | B22: 44-011-1.1.1-0212956 | C22: Műanyag kültéri nyílászárók elhelyezése előre kihagyott falnyílásba, hőszigetelt, fokozott légzárású bejárati ajtó, tömítés nélkül (szerelvényezve, finom beállítással), 5,01-10,00 m kerület között REHAU Brillant-Design bejárati ajtó, fehér, sima fehér tömör betéttel, 110 x 240 cm | D22: 1 | E22: db | F22: 0 | G22: 0 | H22: =ROUND(D22*F22, 0) -> 0 | I22: =ROUND(D22*G22, 0) -> 0
A24: 12 | B24: 44-012-1.1.1.5.2-0222321 | C24: Műanyag kültéri nyílászárók, hőszigetelt, fokozott légzárású ablak elhelyezése előre kihagyott falnyílásba, tömítés nélkül (szerelvényezve, finombeállítással), 4,00 m kerületig, hatkamrás profil, egyszárnyú bukó REHAU Euro-Design 86 bukó ablak, fehér, Ug = 1,1 W/m2K 49 x 49 cm | D24: 2 | E24: db | F24: 0 | G24: 0 | H24: =ROUND(D24*F24, 0) -> 0 | I24: =ROUND(D24*G24, 0) -> 0
... A34: 17 | B34: 44-012-2-0212951 | C34: Műanyag lécek, sorolók, kiegészítők elhelyezése (beépítéssel) belső műanyag ablakpárkányok készítése eltérő szélességgel | D34: 14.64 | E34: m | F34: 0 | G34: 0 | H34: =ROUND(D34*F34, 0) -> 0 | I34: =ROUND(D34*G34, 0) -> 0
C36: Munkanem összesen: | H36: =ROUND(SUM(H2:H35),0) -> 0 | I36: =ROUND(SUM(I2:I35),0) -> 0

Sheet Fém nyílászáró és épületlakatos
A1: Ssz. | B1: Tételszám | C1: Tétel szövege | D1: Menny. | E1: Egység | F1: Anyag egységár | G1: Díj egységre | H1: Anyag összesen | I1: Díj összesen
A2: 1 | B2: 45-011-1.1.1.2-0185002 | C2: Beltéri információs rendszer elhelyezése, változó szélességben és sorkiosztásban, eloxált alumíniumból, ajtó felirati tábla fejléc, két sor információs lehetőséggel SPANDEX beltéri ajtó felirati tábla 180x40 mm fejléc + két sor 180x20 mm sínes profil, záróprofillal | D2: 11 | E2: db | F2: 0 | G2: 0 | H2: =ROUND(D2*F2, 0) -> 0 | I2: =ROUND(D2*G2, 0) -> 0
A4: 2 | B4: 45-011-1.1.2.2-0185012 | C4: Beltéri információs rendszer elhelyezése, változó szélességben és sorkiosztásban, eloxált alumíniumból, piktogram alumínium betéttel SPANDEX beltéri piktogram alumínium betéttel 100x20 mm edge profil, 100x100x1 mm betéttel, záróprofillal | D4: 2 | E4: db | F4: 0 | G4: 0 | H4: =ROUND(D4*F4, 0) -> 0 | I4: =ROUND(D4*G4, 0) -> 0
A6: 3 | B6: 45-011-11.1.1.1-0185021 | C6: Kültéri információs rendszer elhelyezése csőoszlopra, betonalap és földmunka nélkül, változó szélességben és sorkiosztásban, nyers alumíniumból, infópanel háromsoros kivitelben SPANDEX kültéri három soros 1000x200 mm infopanel, műanyag végzáróval | D6: 1 | E6: db | F6: 0 | G6: 0 | H6: =ROUND(D6*F6, 0) -> 0 | I6: =ROUND(D6*G6, 0) -> 0
C8: Munkanem összesen: | H8: =ROUND(SUM(H2:H7),0) -> 0 | I8: =ROUND(SUM(I2:I7),0) -> 0

Sheet Felületképzés
A1: Ssz. | B1: Tételszám | C1: Tétel szövege | D1: Menny. | E1: Egység | F1: Anyag egységár | G1: Díj egységre | H1: Anyag összesen | I1: Díj összesen
A2: 1 | B2: 47-000-1.3.1.2 | C2: Belső festéseknél felület előkészítése, részmunkák; vizes diszperziós falfesték lekaparása, bármilyen padozatú helységben, tagolt felületen | D2: 328 | E2: m2 | F2: 0 | G2: 0 | H2: =ROUND(D2*F2, 0) -> 0 | I2: =ROUND(D2*G2, 0) -> 0
A4: 2 | B4: 47-000-1.21.2.1.1.2-0150145 | C4: Belső festéseknél felület előkészítése, részmunkák; glettelés, műanyag kötőanyagú glettel (simítótapasszal), vakolt felületen, bármilyen padozatú helyiségben, tagolt felületen Deko simítótapasz 100, fehér, EAN: 5995061277513 | D4: 328 | E4: m2 | F4: 0 | G4: 0 | H4: =ROUND(D4*F4, 0) -> 0 | I4: =ROUND(D4*G4, 0) -> 0
A6: 3 | B6: 47-011-15.4.1.2-0154315 | C6: Diszperziós festés latex bázisú, fehér vagy gyárilag színezett vízzel hígítható falfestékkel, megfelelően előkészített alapfelületen, vakolaton, két rétegben, tagolt sima felületen StoColor Opticryl Matt C3 színcsoport, matt latexfesték, EN 13300 szerinti 2. dörzsálló, 00024-002 | D6: 328 | E6: m2 | F6: 0 | G6: 0 | H6: =ROUND(D6*F6, 0) -> 0 | I6: =ROUND(D6*G6, 0) -> 0
A8: 4 | B8: 47-021-21.4.1-0130701 | C8: Acélfelületek közbenső festése cső és regisztercső felületén (NÁ 80-ig), függesztőn és tartóvason, sormosdó állványzaton műgyanta kötőanyagú, oldószeres festékkel Trinát alapozófesték, fehér 100, EAN: 5995061117031 | D8: 400 | E8: m | F8: 0 | G8: 0 | H8: =ROUND(D8*F8, 0) -> 0 | I8: =ROUND(D8*G8, 0) -> 0
A10: 5 | B10: 47-021-31.4.1-0130361 | C10: Acélfelületek átvonó festése cső és regisztercső felületén (NÁ 80-ig), függesztőn és tartóvason, sormosdó állványzaton műgyanta kötőanyagú, oldószeres festékkel Trinát magasfényű zománcfesték, fehér 100, EAN: 5995061119042 | D10: 400 | E10: m | F10: 0 | G10: 0 | H10: =ROUND(D10*F10, 0) -> 0 | I10: =ROUND(D10*G10, 0) -> 0
A12: 6 | B12: 47-031-1.1.1.2-0130701 | C12: Belső fafelületek alapmázolása, műgyantabázisú (alkid) oldószertartalmú alapozóval, tagolt felületen Trinát alapozófesték, fehér 100, EAN: 5995061117031 | D12: 27.06 | E12: m2 | F12: 0 | G12: 0 | H12: =ROUND(D12*F12, 0) -> 0 | I12: =ROUND(D12*G12, 0) -> 0
A14: 7 | B14: 47-031-1.3.1.2-0130701 | C14: Belső fafelületek fedőmázolása, műgyantabázisú (alkid) oldószertartalmú alapozóval, tagolt felületen Trinát alapozófesték, fehér 100, EAN: 5995061117031 | D14: 27.06 | E14: m2 | F14: 0 | G14: 0 | H14: =ROUND(D14*F14, 0) -> 0 | I14: =ROUND(D14*G14, 0) -> 0
A16: 8 | B16: 47-031-1.5.1.2-0130361 | C16: Belső fafelületek zománclakkozása, műgyantabázisú (alkid) oldószertartalmú zománccal, tagolt felületen Trinát magasfényű zománcfesték, fehér 100, EAN: 5995061119042 | D16: 27.06 | E16: m2 | F16: 0 | G16: 0 | H16: =ROUND(D16*F16, 0) -> 0 | I16: =ROUND(D16*G16, 0) -> 0
A18: 9 | B18: 47-031-3.12.2.2-0418751 | C18: Külső fafelületek lazúrozása, gyalult felületen, oldószeres lazúrral, két rétegben, tagolt felületen Revco Wood-Line falazúr, natúr | D18: 19.77 | E18: m2 | F18: 0 | G18: 0 | H18: =ROUND(D18*F18, 0) -> 0 | I18: =ROUND(D18*G18, 0) -> 0
C20: Munkanem összesen: | H20: =ROUND(SUM(H2:H19),0) -> 0 | I20: =ROUND(SUM(I2:I19),0) -> 0

Sheet Szigetelés
A1: Ssz. | B1: Tételszám | C1: Tétel szövege | D1: Menny. | E1: Egység | F1: Anyag egységár | G1: Díj egységre | H1: Anyag összesen | I1: Díj összesen
A2: 1 | B2: 48-007-21.1.1.2-0113314 | C2: Külső fal; homlokzati fal hő- és hangszigetelése, falazott vagy monolit vasbeton szerkezeten, függőleges felületen, (rögzítés külön tételben) vékonyvakolat alatti méretstabil expandált polisztirolhab lemezzel AUSTROTHERM AT H80 homlokzati hőszigetelő lemez,1000x500x180 mm | D2: 154.87 | E2: m2 | F2: 0 | G2: 0 | H2: =ROUND(D2*F2, 0) -> 0 | I2: =ROUND(D2*G2, 0) -> 0
A4: 2 | B4: 48-007-21.1.2-0092690 | C4: Külső fal; homlokzati fal hő- és hangszigetelése, falazott vagy monolit vasbeton szerkezeten, kávaképzés vízszintes és függőleges felületen, kőzetgyapot csíkkal ROCKWOOL Frontrock (RP-PT) vakolható kőzetgyapot lemez 20 mm | D4: 9.1 | E4: m2 | F4: 0 | G4: 0 | H4: =ROUND(D4*F4, 0) -> 0 | I4: =ROUND(D4*G4, 0) -> 0
A6: 3 | B6: 48-007-21.21.1-0113286 | C6: Külső fal; Hőszigetelések épületlábazaton vagy koszorún, foltonként ragasztva vagy megtámasztva (rögzítés külön tételben), egy rétegben, extrudált polisztirolhab lemezzel AUSTROTHERM XPS TOP P extrudált polisztirolhab hőszigetelő lemez, lépcsős élkiképzéssel, 615x1265x150 mm | D6: 20.84 | E6: m2 | F6: 0 | G6: 0 | H6: =ROUND(D6*F6, 0) -> 0 | I6: =ROUND(D6*G6, 0) -> 0
A8: 4 | B8: 48-007-41.1.5.1-0111805 | C8: Födém; Padló hőszigetelő anyag elhelyezése, vízszintes felületen, nem járható födémre, szálas szigetelő anyaggal (üveggyapot, kőzetgyapot) URSA DF 44 kasírozatlan többfunkciós ásványgyapot (üveggyapot) hő- és hangszigetelő tekercs, λD=0,044 (W/mK), 100 mm | D8: 192.32 | E8: m2 | F8: 0 | G8: 0 | H8: =ROUND(D8*F8, 0) -> 0 | I8: =ROUND(D8*G8, 0) -> 0
A10: 5 | B10: 48-007-41.1.5.1-0111811 | C10: Födém; Padló hőszigetelő anyag elhelyezése, vízszintes felületen, nem járható födémre, szálas szigetelő anyaggal (üveggyapot, kőzetgyapot) URSA ELF kasírozatlan többfunkciós ásványgyapot (üveggyapot) hő- és hangszigetelő tekercs, λD=0,044 (W/mK), 150 mm | D10: 192.32 | E10: m2 | F10: 0 | G10: 0 | H10: =ROUND(D10*F10, 0) -> 0 | I10: =ROUND(D10*G10, 0) -> 0
A12: 6 | B12: 48-014-4.4-0313001 | C12: Üzemi-használati víz elleni, víznyomásnak nem kitett helyzetű, kerámia vagy GRES lapburkolat alatti függőleges falszigetelés bevonatszigeteléssel, két rétegben, minimum 2,0 mm száraz rétegvastagságú kétkomponensű szigetelőhabarccsal, glettvassal vagy simítóval felhordva MAPEI Mapelastic kétkomponensű, cementkötésű, kenhető vízszigetelő habarcs | D12: 99.53 | E12: m2 | F12: 0 | G12: 0 | H12: =ROUND(D12*F12, 0) -> 0 | I12: =ROUND(D12*G12, 0) -> 0
A14: 7 | B14: 48-014-7.4-0313001 | C14: Üzemi-használati víz elleni, víznyomásnak nem kitett helyzetű, kerámia vagy GRES lapburkolat alatti padlószigetelés bevonatszigeteléssel, két rétegben, minimum 2,0 mm száraz rétegvastagságú kétkomponensű szigetelőhabarccsal,glettvassal vagy simítóval felhordva MAPEI Mapelastic kétkomponensű, cementkötésű, kenhető vízszigetelő habarcs | D14: 27.99 | E14: m2 | F14: 0 | G14: 0 | H14: =ROUND(D14*F14, 0) -> 0 | I14: =ROUND(D14*G14, 0) -> 0
A16: 8 | B16: 48-014-12-0313601 | C16: Üzemi-használati víz elleni szigetelés hajlaterősítése szigetelőhabarcs vagy műanyagbázisú bevonatszigetelésnél, egy rétegben, szigetelés rétegei közé beágyazva, minimum 8,0 cm széles rendszerkomponens hajlaterősítő-résáthidaló szalaggal MAPEI Mapeband szövet szalag | D16: 51 | E16: m | F16: 0 | G16: 0 | H16: =ROUND(D16*F16, 0) -> 0 | I16: =ROUND(D16*G16, 0) -> 0
A18: 9 | B18: 48-014-17.1-0315214 | C18: Üzemi-használati víz elleni szigetelésnél víznyomásnak nem kitett helyzetű, kerámia vagy GRES lapburkolat alatti szigetelőhabarcs illetve "folyékony fólia" (rugalmas műanyagdiszperzió) szigetelés rétegei közé beágyazva, szigetelőgallér elhelyezése, csőátvezetésnél Ø 50 mm átmérőig, 12x12 cm-es rendszerkomponens szigetelőgallér Schomburg ADF-ROHRMANSCHETTE erősítő szigetelőgallér csőátvezetéshez | D18: 18 | E18: db | F18: 0 | G18: 0 | H18: =ROUND(D18*F18, 0) -> 0 | I18: =ROUND(D18*G18, 0) -> 0
A20: 10 | B20: 48-021-1.51.2.3.1 | C20: Szigetelések rögzítése; Hőszigetelő táblák pontszerű mechanikai rögzítése, homlokzaton, vázkerámia vagy pórusbeton aljzatszerkezethez, fém beütődübelekkel | D20: 1109 | E20: db | F20: 0 | G20: 0 | H20: =ROUND(D20*F20, 0) -> 0 | I20: =ROUND(D20*G20, 0) -> 0
A22: 11 | B22: 48-021-1.63.2.1-0310217 | C22: Szigetelések rögzítése; Hőszigetelő táblák ragasztásos rögzítése, homlokzaton, cementbázisú ragasztóanyaggal weber.therm multi comfort könnyített PS lap ragasztó, Kód: M990 | D22: 175.71 | E22: m2 | F22: 0 | G22: 0 | H22: =ROUND(D22*F22, 0) -> 0 | I22: =ROUND(D22*G22, 0) -> 0
C24: Munkanem összesen: | H24: =ROUND(SUM(H2:H23),0) -> 0 | I24: =ROUND(SUM(I2:I23),0) -> 0

Sheet Útpályatartozékok készítése
A1: Ssz. | B1: Tételszám | C1: Tétel szövege | D1: Menny. | E1: Egység | F1: Anyag egységár | G1: Díj egységre | H1: Anyag összesen | I1: Díj összesen
A2: 1 | B2: 68-002-2.3-0020137 | C2: Közúti jelző- és útbaigazító táblák felszerelése, kiegészítő táblák, 1-1 bilincskészlettel Alumínium kiegészítő jelzőtábla, fényvisszaverő, 500x500 mm EG | D2: 1 | E2: db | F2: 0 | G2: 0 | H2: =ROUND(D2*F2, 0) -> 0 | I2: =ROUND(D2*G2, 0) -> 0
C4: Munkanem összesen: | H4: =ROUND(SUM(H2:H3),0) -> 0 | I4: =ROUND(SUM(I2:I3),0) -> 0

Sheet Elektromosenergia-ellátás, vill
A1: Ssz. | B1: Tételszám | C1: Tétel szövege | D1: Menny. | E1: Egység | F1: Anyag egységár | G1: Díj egységre | H1: Anyag összesen | I1: Díj összesen
A2: 1 | B2: 71-000-1.10 | C2: Vezetékek, kábelek és szerelvények bontása; áramköri elosztók, fogyasztásmérő szekrények | D2: 1 | E2: db | F2: 0 | G2: 0 | H2: =ROUND(D2*F2, 0) -> 0 | I2: =ROUND(D2*G2, 0) -> 0
A4: 2 | B4: 71-000-1.11 | C4: Vezetékek, kábelek és szerelvények bontása; kapcsolók, csatlakozó aljzatok, falifoglalatok, csengők, reduktorok, erős- vagy gyengeáramú nyomók, termosztátok, lépcsőházi automaták, jelzők leszerelése | D4: 30 | E4: db | F4: 0 | G4: 0 | H4: =ROUND(D4*F4, 0) -> 0 | I4: =ROUND(D4*G4, 0) -> 0
A6: 3 | B6: 71-000-1.13 | C6: Vezetékek, kábelek és szerelvények bontása; mindennemű fényforrás és lámpatest leszerelése | D6: 32 | E6: db | F6: 0 | G6: 0 | H6: =ROUND(D6*F6, 0) -> 0 | I6: =ROUND(D6*G6, 0) -> 0
A8: 4 | B8: 71-001-1.1.1.1.1-0110113 | C8: Merev, simafalú műanyag védőcső elhelyezése, elágazó dobozokkal, előre elkészített falhoronyba, vékonyfalú kivitelben, könnyű mechanikai igénybevételre, Névleges méret: 11-16 mm HYDRO-THERM beltéri Mü III. vékonyfalú, hajlítható merev műanyag szürke védőcső 13.5 mm, Kód: MU-III 13.5 | D8: 280 | E8: m | F8: 0 | G8: 0 | H8: =ROUND(D8*F8, 0) -> 0 | I8: =ROUND(D8*G8, 0) -> 0
A10: 5 | B10: 71-001-1.1.1.1.1-0110116 | C10: Merev, simafalú műanyag védőcső elhelyezése, elágazó dobozokkal, előre elkészített falhoronyba, vékonyfalú kivitelben, könnyű mechanikai igénybevételre, Névleges méret: 11-16 mm HYDRO-THERM beltéri Mü III. vékonyfalú, hajlítható merev műanyag szürke védőcső 16 mm, Kód: MU-III 16 | D10: 77 | E10: m | F10: 0 | G10: 0 | H10: =ROUND(D10*F10, 0) -> 0 | I10: =ROUND(D10*G10, 0) -> 0
A12: 6 | B12: 71-001-1.1.1.1.2-0110123 | C12: Merev, simafalú műanyag védőcső elhelyezése, elágazó dobozokkal, előre elkészített falhoronyba, vékonyfalú kivitelben, könnyű mechanikai igénybevételre, Névleges méret: 21-29 mm HYDRO-THERM beltéri Mü III. vékonyfalú, hajlítható merev műanyag szürke védőcső 23 mm, Kód: MU-III 23 | D12: 8 | E12: m | F12: 0 | G12: 0 | H12: =ROUND(D12*F12, 0) -> 0 | I12: =ROUND(D12*G12, 0) -> 0
A14: 7 | B14: 71-001-1.1.1.1.2-0110129 | C14: Merev, simafalú műanyag védőcső elhelyezése, elágazó dobozokkal, előre elkészített falhoronyba, vékonyfalú kivitelben, könnyű mechanikai igénybevételre, Névleges méret: 21-29 mm HYDRO-THERM beltéri Mü III. vékonyfalú, hajlítható merev műanyag szürke védőcső 29 mm, Kód: MU-III 29 | D14: 10 | E14: m | F14: 0 | G14: 0 | H14: =ROUND(D14*F14, 0) -> 0 | I14: =ROUND(D14*G14, 0) -> 0
A16: 8 | B16: 71-001-1.1.2.2-0110021 | C16: Merev, simafalú műanyag védőcső elhelyezése, elágazó dobozokkal, előre elkészített falhoronyba, vastagfalú kivitelben, nehéz mechanikai igénybevételre, Névleges méret: 21-29 mm HYDRO-THERM beltéri Mü I. vastagfalú, merev műanyag szürke védőcső 21 mm, Kód: MU-I 21 | D16: 56 | E16: m | F16: 0 | G16: 0 | H16: =ROUND(D16*F16, 0) -> 0 | I16: =ROUND(D16*G16, 0) -> 0
A18: 9 | B18: 71-001-1.1.2.3-0110036 | C18: Merev, simafalú műanyag védőcső elhelyezése, elágazó dobozokkal, előre elkészített falhoronyba, vastagfalú kivitelben, nehéz mechanikai igénybevételre, Névleges méret: 36-48 mm HYDRO-THERM beltéri Mü I. vastagfalú, merev műanyag szürke védőcső 36 mm, Kód: MU-I 36 | D18: 56 | E18: m | F18: 0 | G18: 0 | H18: =ROUND(D18*F18, 0) -> 0 | I18: =ROUND(D18*G18, 0) -> 0
A20: 10 | B20: 71-001-1.1.2.3-0110048 | C20: Merev, simafalú műanyag védőcső elhelyezése, elágazó dobozokkal, előre elkészített falhoronyba, vastagfalú kivitelben, nehéz mechanikai igénybevételre, Névleges méret: 36-48 mm HYDRO-THERM beltéri Mü I. vastagfalú, merev műanyag szürke védőcső 48 mm, Kód: MU-I 48 | D20: 10 | E20: m | F20: 0 | G20: 0 | H20: =ROUND(D20*F20, 0) -> 0 | I20: =ROUND(D20*G20, 0) -> 0
A22: 11 | B22: 71-001-11.1.1-0121001 | C22: Elágazó doboz illetve szerelvénydoboz elhelyezése, süllyesztve, fészekvésés nélkül, Névleges méret: Ø68 mm-ig, 2xØ68 mm-ig vagy négyzetes kivitelben, 30-60 mm mélységig, max. négyes sorolásig HYDRO-THERM beltéri elágazó doboz, Müds 65 mm, Kód: 65-ALJ | D22: 65 | E22: db | F22: 0 | G22: 0 | H22: =ROUND(D22*F22, 0) -> 0 | I22: =ROUND(D22*G22, 0) -> 0
A24: 12 | B24: 71-001-11.1.2-0121003 | C24: Elágazó doboz illetve szerelvénydoboz elhelyezése, süllyesztve, fészekvésés nélkül, Névleges méret: 70, 80, 100, 150, 200 mm 87, 107, 159, 240, 238 mm (70 - 300 mm) HYDRO-THERM beltéri elágazó doboz, Müdk 100 mm, Kód: 100-K | D24: 2 | E24: db | F24: 0 | G24: 0 | H24: =ROUND(D24*F24, 0) -> 0 | I24: =ROUND(D24*G24, 0) -> 0
... A76: 38 | B76: 71-013-9 | C76: Villám és érintésvédelmi mérés és jegyzőkönyv készítése | D76: 300 | E76: mp* | F76: 0 | G76: 0 | H76: =ROUND(D76*F76, 0) -> 0 | I76: =ROUND(D76*G76, 0) -> 0
C78: Munkanem összesen: | H78: =ROUND(SUM(H2:H77),0) -> 0 | I78: =ROUND(SUM(I2:I77),0) -> 0

Sheet Épületgépészeti csővezeték szer
A1: Ssz. | B1: Tételszám | C1: Tétel szövege | D1: Menny. | E1: Egység | F1: Anyag egységár | G1: Díj egységre | H1: Anyag összesen | I1: Díj összesen
A2: 1 | B2: 81-000-1.1.1 | C2: Csővezetékek bontása, horganyzott vagy fekete acélcsövek tartószerkezetről, vagy padlócsatornából lángvágással, deponálással, DN 50 méretig | D2: 25 | E2: m | F2: 0 | G2: 0 | H2: =ROUND(D2*F2, 0) -> 0 | I2: =ROUND(D2*G2, 0) -> 0
A4: 2 | B4: 81-000-1.5.1 | C4: Csővezetékek bontása, ragasztott vagy gumigyűrűs tömítésű PVC csővezeték leszerelése, DN 25 - 50 között | D4: 10 | E4: m | F4: 0 | G4: 0 | H4: =ROUND(D4*F4, 0) -> 0 | I4: =ROUND(D4*G4, 0) -> 0
A6: 3 | B6: 81-001-1.1.3.1.1.3-0323944 | C6: Ivóvíz vezeték, Térhálósított polietilén cső (PE-Xa) szerelése, peremes szorítókötésekkel, cső elhelyezése csőidomok nélkül, szakaszos nyomáspróbával, falhoronyba vagy padlószerkezetbe, védőcsővel vagy szigeteléssel ellátva (horonyvésés külön tételben), DN 20 SANIPEX VPE vízvezeték cső tekercsben védőcsővel 25x3,5 10 bar 90 C fok, JRG 5706.025 | D6: 35 | E6: m | F6: 0 | G6: 0 | H6: =ROUND(D6*F6, 0) -> 0 | I6: =ROUND(D6*G6, 0) -> 0
A8: 4 | B8: 81-002-3.2.1.2.3-0130983 | C8: PVC lefolyóvezeték szerelése, tokos, gumigyűrűs kötésekkel, cső elhelyezése csőidomokkal, szakaszos tömörségi próbával, horonyba vagy padlócsatornába, DN 50 PIPELIFE PVC-U tokos lefolyócső 50x1,8x1000 mm, KAEM050/1M | D8: 30 | E8: m | F8: 0 | G8: 0 | H8: =ROUND(D8*F8, 0) -> 0 | I8: =ROUND(D8*G8, 0) -> 0
A10: 5 | B10: 81-002-4.1.1.2.1-0131502 | C10: PVC-KGEM lefolyóvezeték szerelése, tokos, gumigyűrűs kötésekkel, cső elhelyezése csőidomok nélkül, szakaszos tömörségi próbával, horonyba, padlócsatornába vagy épületen belül földárokba, DN 100 PIPELIFE PVC-U tömörfalú tokos csatornacső 110x3,2x2000 mm SN4, KGEM110/2M-EN | D10: 10 | E10: m | F10: 0 | G10: 0 | H10: =ROUND(D10*F10, 0) -> 0 | I10: =ROUND(D10*G10, 0) -> 0
A12: 6 | B12: 81-004-1.4.1.1.1.3-0110010 | C12: Fűtési vezeték, Fekete acélcső szerelése, hegesztett kötésekkel, tartószerkezettel, szakaszos nyomáspróbával, szabadon, horonyba vagy padlócsatornába, irányváltozás csőhajlítással, DN 20 Fekete acélcső A 37X 3/4" simavégű | D12: 40 | E12: m | F12: 0 | G12: 0 | H12: =ROUND(D12*F12, 0) -> 0 | I12: =ROUND(D12*G12, 0) -> 0
A14: 7 | B14: 81-012-1.1.3-0210204 | C14: Átlakítás készítése, meglévő fekete acélcső vezetéken, szabadon, horonyba vagy padlócsatornába, DN 20-25 Fekete acélcsövön 3/4" | D14: 22 | E14: db | F14: 0 | G14: 0 | H14: =ROUND(D14*F14, 0) -> 0 | I14: =ROUND(D14*G14, 0) -> 0
C16: Munkanem összesen: | H16: =ROUND(SUM(H2:H15),0) -> 0 | I16: =ROUND(SUM(I2:I15),0) -> 0

Sheet Épületgépészeti szerelvények és
A1: Ssz. | B1: Tételszám | C1: Tétel szövege | D1: Menny. | E1: Egység | F1: Anyag egységár | G1: Díj egységre | H1: Anyag összesen | I1: Díj összesen
A2: 1 | B2: 82-000-1.2.1 | C2: Szerelvények leszerelése, menetes szerelvények, DN 50 méretig | D2: 30 | E2: db | F2: 0 | G2: 0 | H2: =ROUND(D2*F2, 0) -> 0 | I2: =ROUND(D2*G2, 0) -> 0
A4: 2 | B4: 82-000-3.2 | C4: Vízellátás berendezési tárgyak leszerelése, falikutak, mosdók | D4: 6 | E4: db | F4: 0 | G4: 0 | H4: =ROUND(D4*F4, 0) -> 0 | I4: =ROUND(D4*G4, 0) -> 0
A6: 3 | B6: 82-000-3.3 | C6: Vízellátás berendezési tárgyak leszerelése, mosogatók | D6: 2 | E6: db | F6: 0 | G6: 0 | H6: =ROUND(D6*F6, 0) -> 0 | I6: =ROUND(D6*G6, 0) -> 0
A8: 4 | B8: 82-000-3.4 | C8: Vízellátás berendezési tárgyak leszerelése, WC csésze tartozékokkal | D8: 3 | E8: db | F8: 0 | G8: 0 | H8: =ROUND(D8*F8, 0) -> 0 | I8: =ROUND(D8*G8, 0) -> 0
A10: 5 | B10: 82-000-3.5 | C10: Vízellátás berendezési tárgyak leszerelése, vizelde tartozékokkal | D10: 2 | E10: db | F10: 0 | G10: 0 | H10: =ROUND(D10*F10, 0) -> 0 | I10: =ROUND(D10*G10, 0) -> 0
A12: 6 | B12: 82-000-3.6 | C12: Vízellátás berendezési tárgyak leszerelése, öblítőtartály tartozékokkal | D12: 3 | E12: db | F12: 0 | G12: 0 | H12: =ROUND(D12*F12, 0) -> 0 | I12: =ROUND(D12*G12, 0) -> 0
A14: 7 | B14: 82-000-3.7 | C14: Vízellátás berendezési tárgyak leszerelése, fürdőkád | D14: 1 | E14: db | F14: 0 | G14: 0 | H14: =ROUND(D14*F14, 0) -> 0 | I14: =ROUND(D14*G14, 0) -> 0
A16: 8 | B16: 82-000-4.2.6 | C16: Gáz- és fűtésszerelési berendezési tárgyak leszerelése, fűtésszerelési berendezési tárgyak lapradiátorok | D16: 11 | E16: db | F16: 0 | G16: 0 | H16: =ROUND(D16*F16, 0) -> 0 | I16: =ROUND(D16*G16, 0) -> 0
A18: 9 | B18: 82-001-16.3.5-0113319 | C18: Fűtőtest szerelvény elhelyezése külső vagy belső menettel, illetve hollandival csatlakoztatva DN 20 termosztatikus szelep, termosztatikus szelep szett Danfoss egyenes kivitelű nagykapacitású termosztatikus radiátor szeleptest, 013G1677, RA-G 20 | D18: 16 | E18: db | F18: 0 | G18: 0 | H18: =ROUND(D18*F18, 0) -> 0 | I18: =ROUND(D18*G18, 0) -> 0
A20: 10 | B20: 82-001-17.1.1-0113257 | C20: Termosztatikus szelepfej felszerelése radiátorszelepre, KLAPP csatlakozóval rögzítve Danfoss termosztatikus fej beépített érzékelővel, rongálás ellen védett, 013G2920, RA 2920, 5-26°C | D20: 16 | E20: db | F20: 0 | G20: 0 | H20: =ROUND(D20*F20, 0) -> 0 | I20: =ROUND(D20*G20, 0) -> 0
A22: 11 | B22: 82-009-2.1.2.3-0214055 | C22: Mosogató elhelyezése és bekötése, hideg-meleg vízre, háztartási mosogatók, csaptelep és bűzelzáró nélkül, előre elkészített támaszra vagy állványra, kétmedencés Rozsdamentes lemez mosogató, 900x600 mm, kétmedencés, teletetős | D22: 2 | E22: db | F22: 0 | G22: 0 | H22: =ROUND(D22*F22, 0) -> 0 | I22: =ROUND(D22*G22, 0) -> 0
A24: 12 | B24: 82-009-5.1-0112631 | C24: Mosdó vagy mosómedence berendezés elhelyezése és bekötése, kifolyószelep, bűzelzáró és sarokszelep nélkül, falra szerelhető porcelán kivitelben (komplett) ALFÖLDI/BÁZIS porcelán mosdó, 60 cm, 3 csaplyukkal, fehér, Kód: 4196 70 | D24: 4 | E24: db | F24: 0 | G24: 0 | H24: =ROUND(D24*F24, 0) -> 0 | I24: =ROUND(D24*G24, 0) -> 0
... A98: 49 | B98: 82-016-13.2 | C98: Próbafűtés, radiátorok beszabályozása 23.261 - 45.440 W teljesítmény között | D98: 1 | E98: db | F98: 0 | G98: 0 | H98: =ROUND(D98*F98, 0) -> 0 | I98: =ROUND(D98*G98, 0) -> 0
C100: Munkanem összesen: | H100: =ROUND(SUM(H2:H99),0) -> 0 | I100: =ROUND(SUM(I2:I99),0) -> 0

Sheet Szellőztetőberendezések
A1: Ssz. | B1: Tételszám | C1: Tétel szövege | D1: Menny. | E1: Egység | F1: Anyag egységár | G1: Díj egységre | H1: Anyag összesen | I1: Díj összesen
A2: 1 | B2: 83-006-3.4.2-0152002 | C2: Axiális és félaxiális ventilátor elhelyezése, axiális kisventilátor, falba építhető kivitelben HELIOS HR 90 KE mini axiálventilátor automata zsaluval, 230 V/50 Hz, 95 m3/h, Cikkszám: 0334 | D2: 1 | E2: db | F2: 0 | G2: 0 | H2: =ROUND(D2*F2, 0) -> 0 | I2: =ROUND(D2*G2, 0) -> 0
C4: Munkanem összesen: | H4: =ROUND(SUM(H2:H3),0) -> 0 | I4: =ROUND(SUM(I2:I3),0) -> 0
